BEGIN:VCALENDAR
VERSION:2.0
PRODID:-//The Reiki Network - ECPv6.15.20//NONSGML v1.0//EN
CALSCALE:GREGORIAN
METHOD:PUBLISH
X-ORIGINAL-URL:https://reikinetwork.org
X-WR-CALDESC:Events for The Reiki Network
REFRESH-INTERVAL;VALUE=DURATION:PT1H
X-Robots-Tag:noindex
X-PUBLISHED-TTL:PT1H
BEGIN:VTIMEZONE
TZID:Europe/Oslo
BEGIN:DAYLIGHT
TZOFFSETFROM:+0100
TZOFFSETTO:+0200
TZNAME:CEST
DTSTART:20220327T010000
END:DAYLIGHT
BEGIN:STANDARD
TZOFFSETFROM:+0200
TZOFFSETTO:+0100
TZNAME:CET
DTSTART:20221030T010000
END:STANDARD
BEGIN:DAYLIGHT
TZOFFSETFROM:+0100
TZOFFSETTO:+0200
TZNAME:CEST
DTSTART:20230326T010000
END:DAYLIGHT
BEGIN:STANDARD
TZOFFSETFROM:+0200
TZOFFSETTO:+0100
TZNAME:CET
DTSTART:20231029T010000
END:STANDARD
BEGIN:DAYLIGHT
TZOFFSETFROM:+0100
TZOFFSETTO:+0200
TZNAME:CEST
DTSTART:20240331T010000
END:DAYLIGHT
BEGIN:STANDARD
TZOFFSETFROM:+0200
TZOFFSETTO:+0100
TZNAME:CET
DTSTART:20241027T010000
END:STANDARD
END:VTIMEZONE
BEGIN:VEVENT
DTSTART;TZID=Europe/Oslo:20230627T100000
DTEND;TZID=Europe/Oslo:20230628T180000
DTSTAMP:20260423T114835
CREATED:20230605T100157Z
LAST-MODIFIED:20231107T101425Z
UID:1508-1687860000-1687975200@reikinetwork.org
SUMMARY:Reiki 2 sommerkurs i Tromsø
DESCRIPTION:For deg som er klar til å gå videre på Reiki veien. \n\n\n\n\nReiki energien er fortsatt den samme\, men du lærer nye teknikker som forsterker alt detdu tidligere har lært.\n\n\n\nDu lærer å utføre fjern behandling med Reiki\, harmonisere rom\, situasjoner\, relasjoner og mye mer.\n\n\n\n\nSpennende kurs med mange nye verktøy. Ny Reiki aktivering. \n\n\n\nKursholder\n\n\n\n\nReiki Mester Lærer Berit Susrud – har over 20 års erfaring i å undervise Reiki i The ReikiNetwork.org\n\n\n\n\nPris\n\n\n\n\nkr 6000\n\n\n\n\nPåmelding\n\n\n\n\nkontakt tlf 905 97 813\, betaling ved vipps etter påmelding og sikrer din plass.
URL:https://reikinetwork.org/seminar/reiki-2-sommerkurs-i-tromso/
LOCATION:Borgtun skole\, Tromsø\, Borgtunvegen 21\, Tromsø\, Tromsø\, 9010\, Norway
CATEGORIES:Reiki 2 seminar
ATTACH;FMTTYPE=image/jpeg:https://reikinetwork.org/wp-content/uploads/2023/06/reiki-tromso.jpg
ORGANIZER;CN="Berit Susrud":MAILTO:berit.susrud@gmail.com
END:VEVENT
END:VCALENDAR