BEGIN:VCALENDAR
VERSION:2.0
PRODID:-//The Reiki Network - ECPv6.15.20//NONSGML v1.0//EN
CALSCALE:GREGORIAN
METHOD:PUBLISH
X-ORIGINAL-URL:https://reikinetwork.org
X-WR-CALDESC:Events for The Reiki Network
REFRESH-INTERVAL;VALUE=DURATION:PT1H
X-Robots-Tag:noindex
X-PUBLISHED-TTL:PT1H
BEGIN:VTIMEZONE
TZID:Europe/Oslo
BEGIN:DAYLIGHT
TZOFFSETFROM:+0100
TZOFFSETTO:+0200
TZNAME:CEST
DTSTART:20220327T010000
END:DAYLIGHT
BEGIN:STANDARD
TZOFFSETFROM:+0200
TZOFFSETTO:+0100
TZNAME:CET
DTSTART:20221030T010000
END:STANDARD
BEGIN:DAYLIGHT
TZOFFSETFROM:+0100
TZOFFSETTO:+0200
TZNAME:CEST
DTSTART:20230326T010000
END:DAYLIGHT
BEGIN:STANDARD
TZOFFSETFROM:+0200
TZOFFSETTO:+0100
TZNAME:CET
DTSTART:20231029T010000
END:STANDARD
BEGIN:DAYLIGHT
TZOFFSETFROM:+0100
TZOFFSETTO:+0200
TZNAME:CEST
DTSTART:20240331T010000
END:DAYLIGHT
BEGIN:STANDARD
TZOFFSETFROM:+0200
TZOFFSETTO:+0100
TZNAME:CET
DTSTART:20241027T010000
END:STANDARD
END:VTIMEZONE
BEGIN:VEVENT
DTSTART;TZID=Europe/Oslo:20230916T100000
DTEND;TZID=Europe/Oslo:20230917T180000
DTSTAMP:20260423T093419
CREATED:20230830T140923Z
LAST-MODIFIED:20231107T101353Z
UID:1549-1694858400-1694973600@reikinetwork.org
SUMMARY:Reiki 2 kurs i Tromsø 16. og 17. september kl 10 - 18 begge dager med Reiki Mester Lærer Berit Susrud
DESCRIPTION:For deg som er klar til å gå videre på reikiveien. \n\n\n\nReiki energien er fortsatt den samme\, men du lærer nye energi teknikker som forsterker alt det du tidligere har lært. Du lærer å utføre fjern behandling med reiki energi\, harmonisere rom\, situasjoner\, relasjoner og mye mer \n\n\n\nSpennende kurs med mange nye verktøy. Ny reiki energi aktivering. \n\n\n\nKursholder\n\n\n\n\nReiki Mester Lærer Berit Susrud – har over 20 års erfaring med å undervise Reiki i The Reiki Network.org\n\n\n\n\nPåmelding\n\n\n\n\nTil tlf 905 97 813 eller 901 58 411\n\n\n\n\nPris \n\n\n\n\n6000 kr\n\n\n\nBetaling for kurset skjer med vipps til tlf 905 97 813 etter påmelding og sikrer din plass på kurset.\n\n\n\n\nFor mer info ring Berit Susrud tlf 905 97 813 eller Heidi Astad tlf 901 58 411. Ta med teppe\, pute og liggeunderlag – løse klær\, mat og drikke. \n\n\n\nVelkommen!
URL:https://reikinetwork.org/seminar/reiki-2-kurs-i-tromso-16-og-17-september-kl-10-18-begge-dager-med-reiki-mester-laerer-berit-susrud/
LOCATION:Borgtun skole\, Tromsø\, Borgtunvegen 21\, Tromsø\, Tromsø\, 9010\, Norway
CATEGORIES:Reiki 2 seminar
ATTACH;FMTTYPE=image/jpeg:https://reikinetwork.org/wp-content/uploads/2023/08/autumn.jpg
ORGANIZER;CN="Berit Susrud":MAILTO:berit.susrud@gmail.com
END:VEVENT
END:VCALENDAR