BEGIN:VCALENDAR
VERSION:2.0
PRODID:-//The Reiki Network - ECPv6.15.20//NONSGML v1.0//EN
CALSCALE:GREGORIAN
METHOD:PUBLISH
X-ORIGINAL-URL:https://reikinetwork.org
X-WR-CALDESC:Events for The Reiki Network
REFRESH-INTERVAL;VALUE=DURATION:PT1H
X-Robots-Tag:noindex
X-PUBLISHED-TTL:PT1H
BEGIN:VTIMEZONE
TZID:Europe/Oslo
BEGIN:DAYLIGHT
TZOFFSETFROM:+0100
TZOFFSETTO:+0200
TZNAME:CEST
DTSTART:20230326T010000
END:DAYLIGHT
BEGIN:STANDARD
TZOFFSETFROM:+0200
TZOFFSETTO:+0100
TZNAME:CET
DTSTART:20231029T010000
END:STANDARD
BEGIN:DAYLIGHT
TZOFFSETFROM:+0100
TZOFFSETTO:+0200
TZNAME:CEST
DTSTART:20240331T010000
END:DAYLIGHT
BEGIN:STANDARD
TZOFFSETFROM:+0200
TZOFFSETTO:+0100
TZNAME:CET
DTSTART:20241027T010000
END:STANDARD
BEGIN:DAYLIGHT
TZOFFSETFROM:+0100
TZOFFSETTO:+0200
TZNAME:CEST
DTSTART:20250330T010000
END:DAYLIGHT
BEGIN:STANDARD
TZOFFSETFROM:+0200
TZOFFSETTO:+0100
TZNAME:CET
DTSTART:20251026T010000
END:STANDARD
END:VTIMEZONE
BEGIN:VEVENT
DTSTART;TZID=Europe/Oslo:20241011T170000
DTEND;TZID=Europe/Oslo:20241013T100000
DTSTAMP:20260422T164349
CREATED:20241010T155833Z
LAST-MODIFIED:20241010T155839Z
UID:1957-1728666000-1728813600@reikinetwork.org
SUMMARY:Reiki 2
DESCRIPTION:Reiki 2 kurs- Tjøme
URL:https://reikinetwork.org/seminar/reiki-2-3/
LOCATION:Liv og lære\, Sjøbusand 52\, TJØME\, Norge\, 3145
END:VEVENT
END:VCALENDAR