BEGIN:VCALENDAR
VERSION:2.0
PRODID:-//The Reiki Network - ECPv6.15.20//NONSGML v1.0//EN
CALSCALE:GREGORIAN
METHOD:PUBLISH
X-ORIGINAL-URL:https://reikinetwork.org
X-WR-CALDESC:Events for The Reiki Network
REFRESH-INTERVAL;VALUE=DURATION:PT1H
X-Robots-Tag:noindex
X-PUBLISHED-TTL:PT1H
BEGIN:VTIMEZONE
TZID:Europe/Oslo
BEGIN:DAYLIGHT
TZOFFSETFROM:+0100
TZOFFSETTO:+0200
TZNAME:CEST
DTSTART:20240331T010000
END:DAYLIGHT
BEGIN:STANDARD
TZOFFSETFROM:+0200
TZOFFSETTO:+0100
TZNAME:CET
DTSTART:20241027T010000
END:STANDARD
BEGIN:DAYLIGHT
TZOFFSETFROM:+0100
TZOFFSETTO:+0200
TZNAME:CEST
DTSTART:20250330T010000
END:DAYLIGHT
BEGIN:STANDARD
TZOFFSETFROM:+0200
TZOFFSETTO:+0100
TZNAME:CET
DTSTART:20251026T010000
END:STANDARD
BEGIN:DAYLIGHT
TZOFFSETFROM:+0100
TZOFFSETTO:+0200
TZNAME:CEST
DTSTART:20260329T010000
END:DAYLIGHT
BEGIN:STANDARD
TZOFFSETFROM:+0200
TZOFFSETTO:+0100
TZNAME:CET
DTSTART:20261025T010000
END:STANDARD
END:VTIMEZONE
BEGIN:VEVENT
DTSTART;TZID=Europe/Oslo:20250305T173000
DTEND;TZID=Europe/Oslo:20250306T220000
DTSTAMP:20260422T095636
CREATED:20250212T085120Z
LAST-MODIFIED:20250212T102815Z
UID:2129-1741195800-1741298400@reikinetwork.org
SUMMARY:Reiki 1 - Grundkurs\, Bokenäs\, Sverige
DESCRIPTION:REIKI 1 KURS – ÅTERTA DIN ENERGI\, HARMONI & BALASKursen är ditt viktigaste steg eftersom det är början på en ny och spännande resa! Du får ett verktyg för hälsa\, välbefinnande och potential i dina händer för resten av livet. Denna kurs innehåller även mat och logi.Kursen:– Du får 4 st aktiveringar i händerna för att kunna börja använda Reiki\, därefter har du Reiki i händerna för resten av livet.– ger förståelse om vad Reiki är\, dess ursprung och kvaliteter samt hur det fungerar.– sätter energi och healing i ett jordnära perspektiv– ger dig praktisk träning i att ge dig själv Reiki\, liksom att ge till andra.– erbjuder gemenskap\, nätverk\, återkoppling och uppföljningFör fullständig information se Facebooksidan ReikiMax: Reiki 1 – Grundkurs 5-6 Mars\, Bokenäs\, Sverige \n\n\n\nHjärtligt välkommen!
URL:https://reikinetwork.org/seminar/reiki-1-grundkurs-bokenas-sverige/
ATTACH;FMTTYPE=image/jpeg:https://reikinetwork.org/wp-content/uploads/2025/02/B5742DF6-377A-4C9F-B453-217A9FE01DE7_1_105_c.jpeg
END:VEVENT
END:VCALENDAR