BEGIN:VCALENDAR
VERSION:2.0
PRODID:-//The Reiki Network - ECPv6.15.20//NONSGML v1.0//EN
CALSCALE:GREGORIAN
METHOD:PUBLISH
X-ORIGINAL-URL:https://reikinetwork.org
X-WR-CALDESC:Events for The Reiki Network
REFRESH-INTERVAL;VALUE=DURATION:PT1H
X-Robots-Tag:noindex
X-PUBLISHED-TTL:PT1H
BEGIN:VTIMEZONE
TZID:Europe/Oslo
BEGIN:DAYLIGHT
TZOFFSETFROM:+0100
TZOFFSETTO:+0200
TZNAME:CEST
DTSTART:20240331T010000
END:DAYLIGHT
BEGIN:STANDARD
TZOFFSETFROM:+0200
TZOFFSETTO:+0100
TZNAME:CET
DTSTART:20241027T010000
END:STANDARD
BEGIN:DAYLIGHT
TZOFFSETFROM:+0100
TZOFFSETTO:+0200
TZNAME:CEST
DTSTART:20250330T010000
END:DAYLIGHT
BEGIN:STANDARD
TZOFFSETFROM:+0200
TZOFFSETTO:+0100
TZNAME:CET
DTSTART:20251026T010000
END:STANDARD
BEGIN:DAYLIGHT
TZOFFSETFROM:+0100
TZOFFSETTO:+0200
TZNAME:CEST
DTSTART:20260329T010000
END:DAYLIGHT
BEGIN:STANDARD
TZOFFSETFROM:+0200
TZOFFSETTO:+0100
TZNAME:CET
DTSTART:20261025T010000
END:STANDARD
END:VTIMEZONE
BEGIN:VEVENT
DTSTART;TZID=Europe/Oslo:20250315T100000
DTEND;TZID=Europe/Oslo:20250316T053000
DTSTAMP:20260422T095956
CREATED:20250227T223943Z
LAST-MODIFIED:20250227T231252Z
UID:2187-1742032800-1742103000@reikinetwork.org
SUMMARY:Reiki 1 Seminar
DESCRIPTION:REIKI is Life Force EnergyThe energy is transmitted through the hands.This ancient method will strengthen the immunesystem; improve sleep quality and lower stress.Reiki treats the body physically\, mentally\,emotionally and spiritually and affects ournatural healing process.Reiki is known to increase energy\, awareness\,balance and relaxation. \n\n\n\n \n\n\n\n$ 400 Includes Training\,Certificate\, Meals and2 Nights Lodging.
URL:https://reikinetwork.org/seminar/reiki-1-10/
LOCATION:Medissage Retreat Center\, 1117 Black Creek Church Road\, Mount Croghan\, SC. 29727\, United States
ATTACH;FMTTYPE=image/jpeg:https://reikinetwork.org/wp-content/uploads/2025/02/edited_karina-reiki_flyer_2025-1.jpg
ORGANIZER;CN="Ruth-Karina Kjolner":MAILTO:ruth.karina.kjolner@icloud.com
END:VEVENT
END:VCALENDAR