BEGIN:VCALENDAR
VERSION:2.0
PRODID:-//The Reiki Network - ECPv6.15.20//NONSGML v1.0//EN
CALSCALE:GREGORIAN
METHOD:PUBLISH
X-WR-CALNAME:The Reiki Network
X-ORIGINAL-URL:https://reikinetwork.org
X-WR-CALDESC:Events for The Reiki Network
REFRESH-INTERVAL;VALUE=DURATION:PT1H
X-Robots-Tag:noindex
X-PUBLISHED-TTL:PT1H
BEGIN:VTIMEZONE
TZID:Europe/Oslo
BEGIN:DAYLIGHT
TZOFFSETFROM:+0100
TZOFFSETTO:+0200
TZNAME:CEST
DTSTART:20230326T010000
END:DAYLIGHT
BEGIN:STANDARD
TZOFFSETFROM:+0200
TZOFFSETTO:+0100
TZNAME:CET
DTSTART:20231029T010000
END:STANDARD
BEGIN:DAYLIGHT
TZOFFSETFROM:+0100
TZOFFSETTO:+0200
TZNAME:CEST
DTSTART:20240331T010000
END:DAYLIGHT
BEGIN:STANDARD
TZOFFSETFROM:+0200
TZOFFSETTO:+0100
TZNAME:CET
DTSTART:20241027T010000
END:STANDARD
BEGIN:DAYLIGHT
TZOFFSETFROM:+0100
TZOFFSETTO:+0200
TZNAME:CEST
DTSTART:20250330T010000
END:DAYLIGHT
BEGIN:STANDARD
TZOFFSETFROM:+0200
TZOFFSETTO:+0100
TZNAME:CET
DTSTART:20251026T010000
END:STANDARD
END:VTIMEZONE
BEGIN:VEVENT
DTSTART;TZID=Europe/Oslo:20240202T100000
DTEND;TZID=Europe/Oslo:20240204T160000
DTSTAMP:20260423T023512
CREATED:20231201T105828Z
LAST-MODIFIED:20231201T110606Z
UID:1716-1706868000-1707062400@reikinetwork.org
SUMMARY:Reiki 2
DESCRIPTION:Reikimesterlærer Arnhild Karin Granberg Sted: Holmestrand
URL:https://reikinetwork.org/seminar/reiki-2-2/
END:VEVENT
BEGIN:VEVENT
DTSTART;TZID=Europe/Oslo:20240215T170000
DTEND;TZID=Europe/Oslo:20240216T220000
DTSTAMP:20260423T023512
CREATED:20240118T104005Z
LAST-MODIFIED:20240118T113145Z
UID:1757-1708016400-1708120800@reikinetwork.org
SUMMARY:Reiki 1 grunnkurs i Tromsø 15. og 16. februar\, 2024\, fra kl 17 - 22 begge dagene.
DESCRIPTION:Bli med på to dagers reiki kurs\, fint å starte det nye året med å lære noe nytt. \n\n\n\nReiki er naturlig og helsefremmende energimedisin som hjelper deg til å komme i balanse\, harmoni og glede.Hendene dine er instrumentet.Du lærer å bruke reiki ift deg selv og andre.Reiki kan styrke immunforsvaret og hjelpe deg å bli raskere frisk når du er syk\, gi bedre søvn og mer energi mm. \n\n\n\n\n\nLærer\n\n\n\nKursholder er reikimesterlærer med over 20 års erfaring i å undervise i Reiki. Hun har bakgrunn som jordmor og akupunktur og er tilknyttet The Reiki Network.orgVelkommen ! \n\n\n\nPris\n\n\n\n\nPris for kurset er kr 3000 for begge dagene.\n\n\n\nBetaling for kurset skjer med vipps etter påmelding og sikrer din plass på kurset.\n\n\n\n\nPåmelding / kontakt\n\n\n\n\nBerit Susrud tlf 90597813\n\n\n\nHeidi Astad tlf 90158411
URL:https://reikinetwork.org/seminar/reiki-1-grunnkurs-i-tromso-15-og-16-februar-2024-fra-kl-17-22-begge-dagene/
LOCATION:Reinen skole\, Solstrandvegen 76\, Tromsdalen\, 9020\, Norway
CATEGORIES:Reiki 1 seminar
ATTACH;FMTTYPE=image/jpeg:https://reikinetwork.org/wp-content/uploads/2024/01/adventure-1573328_1280.jpg
END:VEVENT
BEGIN:VEVENT
DTSTART;TZID=Europe/Oslo:20240217T100000
DTEND;TZID=Europe/Oslo:20240218T180000
DTSTAMP:20260423T023513
CREATED:20240118T104939Z
LAST-MODIFIED:20240118T113056Z
UID:1768-1708164000-1708279200@reikinetwork.org
SUMMARY:Reiki 2 vidergående kurs i Tromsø 17. og 18. februar 2024\, kl 10 - 18 begge dagene.
DESCRIPTION:Velkommen til videregående kurs for deg som ønsker å lære å sende Reiki.Du lærer ulike teknikker som forsterker alt du tidligere har lært.Du lærer å sende reiki til situasjoner\, relasjoner ulike fastlåste mønstre mm som hindrer deg i din videre utvikling.Gled deg til et verktøy som er unikt å lære. \n\n\n\n\n\nLærer\n\n\n\nKursholder er reikimesterlærer med over 20 års erfaring i å undervise i Reiki. Hun har bakgrunn som jordmor og akupunktur og er tilknyttet The Reiki Network.orgVelkommen ! \n\n\n\nPris\n\n\n\n\nPris for kurset er kr 6000 for begge dagene.\n\n\n\nBetaling for kurset skjer med vipps etter påmelding og sikrer din plass på kurset.\n\n\n\n\nPåmelding / kontakt\n\n\n\n\nBerit Susrud tlf 90597813\n\n\n\nHeidi Astad tlf 90158411
URL:https://reikinetwork.org/seminar/reiki-2-vidergaende-kurs-i-tromso-17-og-18-februar-2024-kl-10-18-begge-dagene/
LOCATION:Reinen skole\, Solstrandvegen 76\, Tromsdalen\, 9020\, Norway
CATEGORIES:Reiki 2 seminar
ATTACH;FMTTYPE=image/jpeg:https://reikinetwork.org/wp-content/uploads/2024/01/adventure-1573328_1280.jpg
END:VEVENT
BEGIN:VEVENT
DTSTART;TZID=Europe/Oslo:20240224T093000
DTEND;TZID=Europe/Oslo:20240225T170000
DTSTAMP:20260423T023513
CREATED:20240129T152400Z
LAST-MODIFIED:20240129T152405Z
UID:1782-1708767000-1708880400@reikinetwork.org
SUMMARY:Reiki I
DESCRIPTION:Välkommen till två härliga kursdagar i Centrala Göteborg där du får tillgång till Reiki för livet!  Reiki Master Teacher Maud Silverbåge Henrikson Pris SEK 2 900: -.
URL:https://reikinetwork.org/seminar/reiki-i-3/
END:VEVENT
END:VCALENDAR