BEGIN:VCALENDAR
VERSION:2.0
PRODID:-//The Reiki Network - ECPv6.15.20//NONSGML v1.0//EN
CALSCALE:GREGORIAN
METHOD:PUBLISH
X-ORIGINAL-URL:https://reikinetwork.org
X-WR-CALDESC:Events for The Reiki Network
REFRESH-INTERVAL;VALUE=DURATION:PT1H
X-Robots-Tag:noindex
X-PUBLISHED-TTL:PT1H
BEGIN:VTIMEZONE
TZID:America/New_York
BEGIN:DAYLIGHT
TZOFFSETFROM:-0500
TZOFFSETTO:-0400
TZNAME:EDT
DTSTART:20230312T070000
END:DAYLIGHT
BEGIN:STANDARD
TZOFFSETFROM:-0400
TZOFFSETTO:-0500
TZNAME:EST
DTSTART:20231105T060000
END:STANDARD
BEGIN:DAYLIGHT
TZOFFSETFROM:-0500
TZOFFSETTO:-0400
TZNAME:EDT
DTSTART:20240310T070000
END:DAYLIGHT
BEGIN:STANDARD
TZOFFSETFROM:-0400
TZOFFSETTO:-0500
TZNAME:EST
DTSTART:20241103T060000
END:STANDARD
BEGIN:DAYLIGHT
TZOFFSETFROM:-0500
TZOFFSETTO:-0400
TZNAME:EDT
DTSTART:20250309T070000
END:DAYLIGHT
BEGIN:STANDARD
TZOFFSETFROM:-0400
TZOFFSETTO:-0500
TZNAME:EST
DTSTART:20251102T060000
END:STANDARD
END:VTIMEZONE
BEGIN:VTIMEZONE
TZID:Europe/Oslo
BEGIN:DAYLIGHT
TZOFFSETFROM:+0100
TZOFFSETTO:+0200
TZNAME:CEST
DTSTART:20230326T010000
END:DAYLIGHT
BEGIN:STANDARD
TZOFFSETFROM:+0200
TZOFFSETTO:+0100
TZNAME:CET
DTSTART:20231029T010000
END:STANDARD
BEGIN:DAYLIGHT
TZOFFSETFROM:+0100
TZOFFSETTO:+0200
TZNAME:CEST
DTSTART:20240331T010000
END:DAYLIGHT
BEGIN:STANDARD
TZOFFSETFROM:+0200
TZOFFSETTO:+0100
TZNAME:CET
DTSTART:20241027T010000
END:STANDARD
BEGIN:DAYLIGHT
TZOFFSETFROM:+0100
TZOFFSETTO:+0200
TZNAME:CEST
DTSTART:20250330T010000
END:DAYLIGHT
BEGIN:STANDARD
TZOFFSETFROM:+0200
TZOFFSETTO:+0100
TZNAME:CET
DTSTART:20251026T010000
END:STANDARD
END:VTIMEZONE
BEGIN:VEVENT
DTSTART;TZID=America/New_York:20241109T100000
DTEND;TZID=America/New_York:20241110T173000
DTSTAMP:20260422T141051
CREATED:20241031T214057Z
LAST-MODIFIED:20241101T192433Z
UID:2021-1731146400-1731259800@reikinetwork.org
SUMMARY:REIKI 1
DESCRIPTION:Karina—Reiki FlyerDownload
URL:https://reikinetwork.org/seminar/reiki-1-5/
ORGANIZER;CN="Ruth-Karina Kjolner":MAILTO:ruth.karina.kjolner@icloud.com
END:VEVENT
BEGIN:VEVENT
DTSTART;TZID=Europe/Oslo:20241115T100000
DTEND;TZID=Europe/Oslo:20241118T160000
DTSTAMP:20260422T141051
CREATED:20241022T113353Z
LAST-MODIFIED:20241022T113359Z
UID:2016-1731664800-1731945600@reikinetwork.org
SUMMARY:Reiki 2 kurs på Tjøme
DESCRIPTION:Reiki 2 kurs
URL:https://reikinetwork.org/seminar/reiki-2-kurs-pa-tjome/
END:VEVENT
BEGIN:VEVENT
DTSTART;TZID=Europe/Oslo:20241129T170000
DTEND;TZID=Europe/Oslo:20241130T170000
DTSTAMP:20260422T141051
CREATED:20241113T125306Z
LAST-MODIFIED:20241113T131336Z
UID:2068-1732899600-1732986000@reikinetwork.org
SUMMARY:Reiki 1
DESCRIPTION:REIKI 1 KURS – ÅTERTA DIN ENERGI\, HARMONI & BALASKursen är ditt viktigaste steg eftersom det är början på en ny och spännande resa! Du får ett verktyg för hälsa\, välbefinnande och potential i dina händer för resten av livet. Denna kurs innehåller även mat och logi.Kursen:– Du får 4 st aktiveringar i händerna för att kunna börja använda Reiki\, därefter har du Reiki i händerna för resten av livet.– ger förståelse om vad Reiki är\, dess ursprung och kvaliteter samt hur det fungerar.– sätter energi och healing i ett jordnära perspektiv– ger dig praktisk träning i att ge dig själv Reiki\, liksom att ge till andra.– erbjuder gemenskap\, nätverk\, återkoppling och uppföljningFör fullständig information se Facebooksidan ReikiMax: Reiki 1 Kurs 29-30 November\, Bokenäs Sverige \n\n\n\nHjärtligt välkommen!
URL:https://reikinetwork.org/seminar/reiki-1-8/
ATTACH;FMTTYPE=image/jpeg:https://reikinetwork.org/wp-content/uploads/2024/11/Reiki-1-29-30-Nov.jpg
END:VEVENT
END:VCALENDAR