BEGIN:VCALENDAR
VERSION:2.0
PRODID:-//The Reiki Network - ECPv6.15.20//NONSGML v1.0//EN
CALSCALE:GREGORIAN
METHOD:PUBLISH
X-WR-CALNAME:The Reiki Network
X-ORIGINAL-URL:https://reikinetwork.org
X-WR-CALDESC:Events for The Reiki Network
REFRESH-INTERVAL;VALUE=DURATION:PT1H
X-Robots-Tag:noindex
X-PUBLISHED-TTL:PT1H
BEGIN:VTIMEZONE
TZID:Europe/Oslo
BEGIN:DAYLIGHT
TZOFFSETFROM:+0100
TZOFFSETTO:+0200
TZNAME:CEST
DTSTART:20240331T010000
END:DAYLIGHT
BEGIN:STANDARD
TZOFFSETFROM:+0200
TZOFFSETTO:+0100
TZNAME:CET
DTSTART:20241027T010000
END:STANDARD
BEGIN:DAYLIGHT
TZOFFSETFROM:+0100
TZOFFSETTO:+0200
TZNAME:CEST
DTSTART:20250330T010000
END:DAYLIGHT
BEGIN:STANDARD
TZOFFSETFROM:+0200
TZOFFSETTO:+0100
TZNAME:CET
DTSTART:20251026T010000
END:STANDARD
BEGIN:DAYLIGHT
TZOFFSETFROM:+0100
TZOFFSETTO:+0200
TZNAME:CEST
DTSTART:20260329T010000
END:DAYLIGHT
BEGIN:STANDARD
TZOFFSETFROM:+0200
TZOFFSETTO:+0100
TZNAME:CET
DTSTART:20261025T010000
END:STANDARD
END:VTIMEZONE
BEGIN:VEVENT
DTSTART;TZID=Europe/Oslo:20250213T170000
DTEND;TZID=Europe/Oslo:20250214T220000
DTSTAMP:20260422T095531
CREATED:20250114T103732Z
LAST-MODIFIED:20250114T104617Z
UID:2102-1739466000-1739570400@reikinetwork.org
SUMMARY:Reiki 1 - grunnkurs i Tromsø\, 13 - 14 februar
DESCRIPTION:Bli med på to dagers kurs på Reinen skole. Kurset passer for alle. Gir deg nye innsikter\, verktøy og støtte i livet. Det kan hjelpe kroppen på så mange måter til å komme i balanse\, harmoni og glede. Reduserer stress\, smerter\, indre uro\, søvnproblemer mm. Hendene dine er instrumentet. Du blir innviet / åpnet til energien Reiki\, kan ikke læres intellektuelt. Kurset er tilknyttet The Reiki Network.org \n\n\n\nTreningstid\n\n\n\n\nTorsdag 13. februar\, kl 17 – 22\n\n\n\nFredag 14. februar\, kl 17 – 22\n\n\n\n\nLæreren\n\n\n\nKursholder er reikimesterlærer Berit Susrud\, med over 25 års erfaring i å lære bort Reiki. Hun har bakgrunn som akupunktør\,  jordmor og sykepleier mm. \n\n\n\nVelkommen! \n\n\n\nPris\n\n\n\n\nPris for Reiki 1 kurset er kr 3000.- / 300 euro \n\n\n\nKr 1000.- for repeterende kurs\n\n\n\nBetaling skjer med vipps etter påmelding og sikrer din plass på kurset\n\n\n\n\nPåmelding / kontakt\n\n\n\n\nBerit Susrud tlf 90597813\n\n\n\nHeidi Astad tlf 90158411
URL:https://reikinetwork.org/seminar/reiki-1-grunnkurs-i-tromso-13-14-februar/
LOCATION:Reinen skole\, Solstrandvegen 76\, Tromsdalen\, 9020\, Norway
CATEGORIES:Reiki 1 seminar
ATTACH;FMTTYPE=image/jpeg:https://reikinetwork.org/wp-content/uploads/2025/01/reiki-kurs1.jpeg
END:VEVENT
BEGIN:VEVENT
DTSTART;TZID=Europe/Oslo:20250216T100000
DTEND;TZID=Europe/Oslo:20250217T180000
DTSTAMP:20260422T095531
CREATED:20250114T104556Z
LAST-MODIFIED:20250114T104602Z
UID:2107-1739700000-1739815200@reikinetwork.org
SUMMARY:Reiki 2 - videregående kurs i Tromsø\, 16 - 17 februar
DESCRIPTION:Velkommen til to dagers kurs på Reinen skole. \n\n\n\nFor deg som ønsker å lære og å få tilgang til de symbolene som fungerer som nøkler til forskjellige aspekter av livskraften\, den skjulte kunnskapen vi alle er en del av. Det holder ikke å lese seg til kunnskapen den må aktiveres i deg av en Reiki mester. Du lærer ulike symboler og teknikker som hjelper deg til å jobbe direkte med temaer du ønsker å fokusere på\, som forsterker alt du tidligere har lært. Reiki 2 teknikkene er kraftfulle hjelpemidler i din personlige utvikling. Glede deg til verktøy som er unike å lære.  \n\n\n\nTreningstid\n\n\n\n\nLørdag 16. februar\, kl 10 – 18\n\n\n\nSøndag 17. februar\, kl 10 – 18\n\n\n\n\nLæreren\n\n\n\nKursholder er reikimesterlærer Berit Susrud\, med over 25 års erfaring i å lære bort Reiki.Hun har bakgrunn som akupunktør\,  jordmor og sykepleier mm. Er tilknyttet internasjonal organisasjon The Reiki Network.org \n\n\n\nPris\n\n\n\n\nPris for kurset er kr 6000.- / 600 euro\n\n\n\nKr 1500.- for repeterende\n\n\n\nBetaling skjer med vipps etter påmelding og sikrer din plass på kurset\n\n\n\n\nPåmelding / kontakt\n\n\n\n\nBerit Susrud tlf 90597813\n\n\n\nHeidi Astad tlf 90158411
URL:https://reikinetwork.org/seminar/reiki-2-videregaende-kurs-i-tromso-16-17-februar/
LOCATION:Reinen skole\, Solstrandvegen 76\, Tromsdalen\, 9020\, Norway
CATEGORIES:Reiki 2 seminar
ATTACH;FMTTYPE=image/jpeg:https://reikinetwork.org/wp-content/uploads/2025/01/reiki-kurs2.jpeg
END:VEVENT
BEGIN:VEVENT
DTSTART;TZID=Europe/Oslo:20250223T100000
DTEND;TZID=Europe/Oslo:20250224T220000
DTSTAMP:20260422T095531
CREATED:20250211T142730Z
LAST-MODIFIED:20250212T084134Z
UID:2124-1740304800-1740434400@reikinetwork.org
SUMMARY:Reiki 1 - Grythyttan\, Sverige
DESCRIPTION:REIKI 1 KURS – ÅTERTA DIN ENERGI\, HARMONI & BALASKursen är ditt viktigaste steg eftersom det är början på en ny och spännande resa! Du får ett verktyg för hälsa\, välbefinnande och potential i dina händer för resten av livet. Denna kurs innehåller även mat och logi.Kursen:– Du får 4 st aktiveringar i händerna för att kunna börja använda Reiki\, därefter har du Reiki i händerna för resten av livet.– ger förståelse om vad Reiki är\, dess ursprung och kvaliteter samt hur det fungerar.– sätter energi och healing i ett jordnära perspektiv– ger dig praktisk träning i att ge dig själv Reiki\, liksom att ge till andra.– erbjuder gemenskap\, nätverk\, återkoppling och uppföljningFör fullständig information se Facebooksidan ReikiMax: Reiki 1 Kurs 23-24 februari\, Grythyttan Sverige \n\n\n\nHjärtligt välkommen!
URL:https://reikinetwork.org/seminar/reiki-1-9/
ATTACH;FMTTYPE=image/jpeg:https://reikinetwork.org/wp-content/uploads/2025/02/7B73E81D-5E5B-42C6-9144-D917CD110BBC_1_105_c.jpeg
END:VEVENT
END:VCALENDAR