BEGIN:VCALENDAR
VERSION:2.0
PRODID:-//The Reiki Network - ECPv6.15.20//NONSGML v1.0//EN
CALSCALE:GREGORIAN
METHOD:PUBLISH
X-ORIGINAL-URL:https://reikinetwork.org
X-WR-CALDESC:Events for The Reiki Network
REFRESH-INTERVAL;VALUE=DURATION:PT1H
X-Robots-Tag:noindex
X-PUBLISHED-TTL:PT1H
BEGIN:VTIMEZONE
TZID:Europe/Oslo
BEGIN:DAYLIGHT
TZOFFSETFROM:+0100
TZOFFSETTO:+0200
TZNAME:CEST
DTSTART:20240331T010000
END:DAYLIGHT
BEGIN:STANDARD
TZOFFSETFROM:+0200
TZOFFSETTO:+0100
TZNAME:CET
DTSTART:20241027T010000
END:STANDARD
BEGIN:DAYLIGHT
TZOFFSETFROM:+0100
TZOFFSETTO:+0200
TZNAME:CEST
DTSTART:20250330T010000
END:DAYLIGHT
BEGIN:STANDARD
TZOFFSETFROM:+0200
TZOFFSETTO:+0100
TZNAME:CET
DTSTART:20251026T010000
END:STANDARD
BEGIN:DAYLIGHT
TZOFFSETFROM:+0100
TZOFFSETTO:+0200
TZNAME:CEST
DTSTART:20260329T010000
END:DAYLIGHT
BEGIN:STANDARD
TZOFFSETFROM:+0200
TZOFFSETTO:+0100
TZNAME:CET
DTSTART:20261025T010000
END:STANDARD
END:VTIMEZONE
BEGIN:VEVENT
DTSTART;TZID=Europe/Oslo:20250404T170000
DTEND;TZID=Europe/Oslo:20250404T210000
DTSTAMP:20260422T072155
CREATED:20250304T123801Z
LAST-MODIFIED:20250304T123807Z
UID:2211-1743786000-1743800400@reikinetwork.org
SUMMARY:Reiki 2 kurs på Stabekk
DESCRIPTION:Velkommen til Reiki 2 kurs på Stabekk 4-6.4.2025 \n\n\n\nFredag kl 17-21. lørdag og søndag kl 10-16
URL:https://reikinetwork.org/seminar/reiki-2-kurs-pa-stabekk/
LOCATION:Solskinnet\, Peterhofveien 13\, Stabekk\, 1369\, Norway
END:VEVENT
BEGIN:VEVENT
DTSTART;TZID=Europe/Oslo:20250405T100000
DTEND;TZID=Europe/Oslo:20250406T160000
DTSTAMP:20260422T072155
CREATED:20250320T081815Z
LAST-MODIFIED:20250320T081822Z
UID:2257-1743847200-1743955200@reikinetwork.org
SUMMARY:Reiki 1 - Grundkurs\, Stockholm\, Sverige
DESCRIPTION:REIKI 1 KURS – ÅTERTA DIN ENERGI\, HARMONI & BALASKursen är ditt viktigaste steg eftersom det är början på en ny och spännande resa! Du får ett verktyg för hälsa\, välbefinnande och potential i dina händer för resten av livet. Denna kurs innehåller även mat och logi.Kursen:– Du får 4 st aktiveringar i händerna för att kunna börja använda Reiki\, därefter har du Reiki i händerna för resten av livet.– ger förståelse om vad Reiki är\, dess ursprung och kvaliteter samt hur det fungerar.– sätter energi och healing i ett jordnära perspektiv– ger dig praktisk träning i att ge dig själv Reiki\, liksom att ge till andra.– erbjuder gemenskap\, nätverk\, återkoppling och uppföljningFör fullständig information se Facebooksidan ReikiMax: https://fb.me/e/6XZ3dQkl9Hjärtligt välkommen!
URL:https://reikinetwork.org/seminar/reiki-1-grundkurs-stockholm-sverige/
ATTACH;FMTTYPE=image/jpeg:https://reikinetwork.org/wp-content/uploads/2025/03/Stockholm.jpg
END:VEVENT
BEGIN:VEVENT
DTSTART;TZID=Europe/Oslo:20250425T180000
DTEND;TZID=Europe/Oslo:20250427T130000
DTSTAMP:20260422T072155
CREATED:20250212T090955Z
LAST-MODIFIED:20250212T091724Z
UID:2135-1745604000-1745758800@reikinetwork.org
SUMMARY:Reiki 1 - Grundkurs\, Bokenäs\, Sverige
DESCRIPTION:REIKI 1 KURS – ÅTERTA DIN ENERGI\, HARMONI & BALASKursen är ditt viktigaste steg eftersom det är början på en ny och spännande resa! Du får ett verktyg för hälsa\, välbefinnande och potential i dina händer för resten av livet. Denna kurs innehåller även mat och logi.Kursen:– Du får 4 st aktiveringar i händerna för att kunna börja använda Reiki\, därefter har du Reiki i händerna för resten av livet.– ger förståelse om vad Reiki är\, dess ursprung och kvaliteter samt hur det fungerar.– sätter energi och healing i ett jordnära perspektiv– ger dig praktisk träning i att ge dig själv Reiki\, liksom att ge till andra.– erbjuder gemenskap\, nätverk\, återkoppling och uppföljningFör fullständig information se Facebooksidan ReikiMax: Reiki 1 – Grundkurs 25-27 April\, Bokenäs\, Sverige \n\n\n\nHjärtligt välkommen!
URL:https://reikinetwork.org/seminar/reiki-1-grundkurs-bokenas-sverige-3/
ATTACH;FMTTYPE=image/jpeg:https://reikinetwork.org/wp-content/uploads/2025/02/B5C5D2B9-FEEB-44CF-A244-3198B8490928_1_105_c.jpeg
END:VEVENT
BEGIN:VEVENT
DTSTART;TZID=Europe/Oslo:20250428T173000
DTEND;TZID=Europe/Oslo:20250429T220000
DTSTAMP:20260422T072155
CREATED:20250212T093603Z
LAST-MODIFIED:20250212T093609Z
UID:2142-1745861400-1745964000@reikinetwork.org
SUMMARY:Reiki 1 - Grundkurs\, Grythyttan\, Sverige
DESCRIPTION:REIKI 1 KURS – ÅTERTA DIN ENERGI\, HARMONI & BALASKursen är ditt viktigaste steg eftersom det är början på en ny och spännande resa! Du får ett verktyg för hälsa\, välbefinnande och potential i dina händer för resten av livet. Denna kurs innehåller även mat och logi.Kursen:– Du får 4 st aktiveringar i händerna för att kunna börja använda Reiki\, därefter har du Reiki i händerna för resten av livet.– ger förståelse om vad Reiki är\, dess ursprung och kvaliteter samt hur det fungerar.– sätter energi och healing i ett jordnära perspektiv– ger dig praktisk träning i att ge dig själv Reiki\, liksom att ge till andra.– erbjuder gemenskap\, nätverk\, återkoppling och uppföljningFör fullständig information se Facebooksidan ReikiMax: Reiki 1 – Grundkurs 28-29 April\, Grythyttan\, Sverige \n\n\n\nHjärtligt välkommen!
URL:https://reikinetwork.org/seminar/reiki-1-grundkurs-grythyttan-sverige/
ATTACH;FMTTYPE=image/jpeg:https://reikinetwork.org/wp-content/uploads/2025/02/F75ADDED-A646-4BCF-8E7B-567FA4154F97_1_105_c.jpeg
END:VEVENT
END:VCALENDAR